Package: scGPS Version: 1.22.0 Command: /Library/Frameworks/R.framework/Resources/bin/R CMD INSTALL scGPS StartedAt: 2025-04-21 15:14:08 -0400 (Mon, 21 Apr 2025) EndedAt: 2025-04-21 15:14:28 -0400 (Mon, 21 Apr 2025) EllapsedTime: 19.3 seconds RetCode: 0 Status: OK