Package: scGPS Version: 1.22.0 Command: /Library/Frameworks/R.framework/Resources/bin/R CMD build --keep-empty-dirs --no-resave-data scGPS StartedAt: 2025-04-21 17:33:55 -0400 (Mon, 21 Apr 2025) EndedAt: 2025-04-21 17:36:17 -0400 (Mon, 21 Apr 2025) EllapsedTime: 141.6 seconds RetCode: 0 Status: OK PackageFile: scGPS_1.22.0.tar.gz PackageFileSize: 2.032 MiB