Package: scFeatures Version: 1.8.0 Command: /home/biocbuild/bbs-3.21-bioc/R/bin/R CMD INSTALL scFeatures StartedAt: 2025-10-15 15:57:14 -0400 (Wed, 15 Oct 2025) EndedAt: 2025-10-15 15:58:12 -0400 (Wed, 15 Oct 2025) EllapsedTime: 58.5 seconds RetCode: 0 Status: OK