Package: scFeatures Version: 1.8.0 Command: /home/biocbuild/bbs-3.21-bioc/R/bin/R CMD build --keep-empty-dirs --no-resave-data scFeatures StartedAt: 2025-10-15 19:43:19 -0400 (Wed, 15 Oct 2025) EndedAt: 2025-10-15 19:45:12 -0400 (Wed, 15 Oct 2025) EllapsedTime: 113.1 seconds RetCode: 0 Status: OK PackageFile: scFeatures_1.8.0.tar.gz PackageFileSize: 2.954 MiB