Package: scFeatures Version: 1.8.0 Command: /Library/Frameworks/R.framework/Resources/bin/R CMD build --keep-empty-dirs --no-resave-data scFeatures StartedAt: 2025-05-12 22:45:13 -0400 (Mon, 12 May 2025) EndedAt: 2025-05-12 22:49:57 -0400 (Mon, 12 May 2025) EllapsedTime: 284.9 seconds RetCode: 0 Status: OK PackageFile: scFeatures_1.8.0.tar.gz PackageFileSize: 2.93 MiB