Package: scFeatures Version: 1.8.0 Command: /Library/Frameworks/R.framework/Resources/bin/R CMD INSTALL scFeatures StartedAt: 2025-04-21 15:47:27 -0400 (Mon, 21 Apr 2025) EndedAt: 2025-04-21 15:48:42 -0400 (Mon, 21 Apr 2025) EllapsedTime: 74.5 seconds RetCode: 0 Status: OK