Package: scDotPlot Version: 1.2.1 Command: /home/biocbuild/bbs-3.21-bioc/R/bin/R CMD INSTALL scDotPlot StartedAt: 2025-10-15 15:54:23 -0400 (Wed, 15 Oct 2025) EndedAt: 2025-10-15 15:55:04 -0400 (Wed, 15 Oct 2025) EllapsedTime: 40.5 seconds RetCode: 0 Status: OK