Package: scDotPlot Version: 1.2.1 Command: /home/biocbuild/bbs-3.21-bioc/R/bin/R CMD build --keep-empty-dirs --no-resave-data scDotPlot StartedAt: 2025-10-15 19:42:31 -0400 (Wed, 15 Oct 2025) EndedAt: 2025-10-15 19:44:15 -0400 (Wed, 15 Oct 2025) EllapsedTime: 104.1 seconds RetCode: 0 Status: OK PackageFile: scDotPlot_1.2.1.tar.gz PackageFileSize: 1.874 MiB