Package: scDotPlot Version: 1.2.0 Command: /Library/Frameworks/R.framework/Resources/bin/R CMD build --keep-empty-dirs --no-resave-data scDotPlot StartedAt: 2025-04-21 18:19:02 -0400 (Mon, 21 Apr 2025) EndedAt: 2025-04-21 18:21:05 -0400 (Mon, 21 Apr 2025) EllapsedTime: 122.8 seconds RetCode: 0 Status: OK PackageFile: scDotPlot_1.2.0.tar.gz PackageFileSize: 1.954 MiB