Package: scDotPlot Version: 1.2.0 Command: rm -rf scDotPlot.buildbin-libdir && mkdir scDotPlot.buildbin-libdir && /Users/biocbuild/BBS/utils/build-universal.sh scDotPlot_1.2.0.tar.gz /Library/Frameworks/R.framework/Resources/bin/R scDotPlot.buildbin-libdir StartedAt: 2025-04-22 01:07:15 -0400 (Tue, 22 Apr 2025) EndedAt: 2025-04-22 01:08:12 -0400 (Tue, 22 Apr 2025) EllapsedTime: 56.6 seconds RetCode: 0 Status: OK PackageFile: scDotPlot_1.2.0.tgz PackageFileSize: 1.983 MiB