Package: scDotPlot Version: 1.2.0 Command: /Library/Frameworks/R.framework/Resources/bin/R CMD INSTALL scDotPlot StartedAt: 2025-05-12 18:04:16 -0400 (Mon, 12 May 2025) EndedAt: 2025-05-12 18:05:01 -0400 (Mon, 12 May 2025) EllapsedTime: 45.0 seconds RetCode: 0 Status: OK