Package: scDotPlot Version: 1.2.0 Command: rm -rf scDotPlot.buildbin-libdir && mkdir scDotPlot.buildbin-libdir && /Users/biocbuild/BBS/utils/build-universal.sh scDotPlot_1.2.0.tar.gz /Library/Frameworks/R.framework/Resources/bin/R scDotPlot.buildbin-libdir StartedAt: 2025-05-14 16:47:42 -0400 (Wed, 14 May 2025) EndedAt: 2025-05-14 16:48:31 -0400 (Wed, 14 May 2025) EllapsedTime: 49.0 seconds RetCode: 0 Status: OK PackageFile: scDotPlot_1.2.0.tgz PackageFileSize: 1.983 MiB