Package: scDesign3 Version: 1.6.0 Command: /home/biocbuild/bbs-3.21-bioc/R/bin/R CMD INSTALL scDesign3 StartedAt: 2025-10-15 15:36:02 -0400 (Wed, 15 Oct 2025) EndedAt: 2025-10-15 15:36:11 -0400 (Wed, 15 Oct 2025) EllapsedTime: 9.6 seconds RetCode: 0 Status: OK