Package: scDblFinder Version: 1.22.0 Command: /Library/Frameworks/R.framework/Resources/bin/R CMD check --install=check:scDblFinder.install-out.txt --library=/Library/Frameworks/R.framework/Resources/library --no-vignettes --timings scDblFinder_1.22.0.tar.gz StartedAt: 2025-05-17 08:23:52 -0400 (Sat, 17 May 2025) EndedAt: 2025-05-17 08:30:53 -0400 (Sat, 17 May 2025) EllapsedTime: 421.2 seconds RetCode: 0 Status: OK CheckDir: scDblFinder.Rcheck Warnings: 0