Package: scDblFinder Version: 1.22.0 Command: /Library/Frameworks/R.framework/Resources/bin/R CMD build --keep-empty-dirs --no-resave-data scDblFinder StartedAt: 2025-05-16 07:45:35 -0400 (Fri, 16 May 2025) EndedAt: 2025-05-16 07:48:15 -0400 (Fri, 16 May 2025) EllapsedTime: 160.2 seconds RetCode: 0 Status: OK PackageFile: scDblFinder_1.22.0.tar.gz PackageFileSize: 2.251 MiB