Package: scDataviz Version: 1.18.0 Command: /home/biocbuild/bbs-3.21-bioc/R/bin/R CMD INSTALL scDataviz StartedAt: 2025-10-01 15:36:02 -0400 (Wed, 01 Oct 2025) EndedAt: 2025-10-01 15:36:38 -0400 (Wed, 01 Oct 2025) EllapsedTime: 36.9 seconds RetCode: 0 Status: OK