Package: scDataviz Version: 1.18.0 Command: /home/biocbuild/bbs-3.21-bioc/R/bin/R CMD build --keep-empty-dirs --no-resave-data scDataviz StartedAt: 2025-10-01 19:45:41 -0400 (Wed, 01 Oct 2025) EndedAt: 2025-10-01 19:49:51 -0400 (Wed, 01 Oct 2025) EllapsedTime: 250.3 seconds RetCode: 0 Status: OK PackageFile: scDataviz_1.18.0.tar.gz PackageFileSize: 7.524 MiB