Package: scDataviz Version: 1.18.0 Command: /Library/Frameworks/R.framework/Resources/bin/R CMD INSTALL scDataviz StartedAt: 2025-07-17 15:59:02 -0400 (Thu, 17 Jul 2025) EndedAt: 2025-07-17 16:00:24 -0400 (Thu, 17 Jul 2025) EllapsedTime: 81.9 seconds RetCode: 0 Status: OK