Package: scDDboost Version: 1.10.0 Command: /home/biocbuild/bbs-3.21-bioc/R/bin/R CMD INSTALL scDDboost StartedAt: 2025-10-08 15:18:49 -0400 (Wed, 08 Oct 2025) EndedAt: 2025-10-08 15:19:49 -0400 (Wed, 08 Oct 2025) EllapsedTime: 60.4 seconds RetCode: 0 Status: OK