Package: scDDboost Version: 1.10.0 Command: /home/biocbuild/bbs-3.21-bioc/R/bin/R CMD build --keep-empty-dirs --no-resave-data scDDboost StartedAt: 2025-10-08 19:40:09 -0400 (Wed, 08 Oct 2025) EndedAt: 2025-10-08 19:41:45 -0400 (Wed, 08 Oct 2025) EllapsedTime: 96.1 seconds RetCode: 0 Status: OK PackageFile: scDDboost_1.10.0.tar.gz PackageFileSize: 808.7 KiB