Package: scDDboost Version: 1.10.0 Maintainer: Xiuyu Ma MaintainerEmail: watsonforfun at gmail.com git_url: https://git.bioconductor.org/packages/scDDboost git_branch: RELEASE_3_21 git_last_commit: 434ff6a git_last_commit_date: 2025-04-15 12:52:10 -0400 (Tue, 15 Apr 2025)