Package: scDD Version: 1.30.0 Command: /home/biocbuild/bbs-3.20-bioc/R/bin/R CMD check --install=check:scDD.install-out.txt --library=/home/biocbuild/bbs-3.20-bioc/R/site-library --timings scDD_1.30.0.tar.gz StartedAt: 2025-01-03 02:00:38 -0500 (Fri, 03 Jan 2025) EndedAt: 2025-01-03 02:06:39 -0500 (Fri, 03 Jan 2025) EllapsedTime: 360.7 seconds RetCode: 0 Status: OK CheckDir: scDD.Rcheck Warnings: 0