Package: scClassify Version: 1.20.0 Command: /home/biocbuild/bbs-3.21-bioc/R/bin/R CMD INSTALL scClassify StartedAt: 2025-10-12 15:35:46 -0400 (Sun, 12 Oct 2025) EndedAt: 2025-10-12 15:36:23 -0400 (Sun, 12 Oct 2025) EllapsedTime: 36.5 seconds RetCode: 0 Status: OK