Package: scClassify Version: 1.20.0 Command: /home/biocbuild/bbs-3.21-bioc/R/bin/R CMD build --keep-empty-dirs --no-resave-data scClassify StartedAt: 2025-10-12 19:43:38 -0400 (Sun, 12 Oct 2025) EndedAt: 2025-10-12 19:45:21 -0400 (Sun, 12 Oct 2025) EllapsedTime: 103.1 seconds RetCode: 0 Status: OK PackageFile: scClassify_1.20.0.tar.gz PackageFileSize: 2.903 MiB