Package: scBubbletree Version: 1.8.0 Command: /home/biocbuild/R/R/bin/R CMD check --install=check:scBubbletree.install-out.txt --library=/home/biocbuild/R/R/site-library --no-vignettes --timings scBubbletree_1.8.0.tar.gz StartedAt: 2025-02-04 10:46:49 -0000 (Tue, 04 Feb 2025) EndedAt: 2025-02-04 10:57:51 -0000 (Tue, 04 Feb 2025) EllapsedTime: 661.8 seconds RetCode: 0 Status: OK CheckDir: scBubbletree.Rcheck Warnings: 0