Package: scBubbletree Version: 1.8.0 Command: /home/biocbuild/R/R/bin/R CMD build --keep-empty-dirs --no-resave-data scBubbletree StartedAt: 2025-02-04 02:37:55 -0000 (Tue, 04 Feb 2025) EndedAt: 2025-02-04 02:46:49 -0000 (Tue, 04 Feb 2025) EllapsedTime: 534.0 seconds RetCode: 0 Status: OK PackageFile: scBubbletree_1.8.0.tar.gz PackageFileSize: 3.962 MiB