Package: sarks Version: 1.18.0 Command: /home/biocbuild/R/R/bin/R CMD INSTALL sarks StartedAt: 2025-02-03 20:30:08 -0000 (Mon, 03 Feb 2025) EndedAt: 2025-02-03 20:30:21 -0000 (Mon, 03 Feb 2025) EllapsedTime: 13.5 seconds RetCode: 0 Status: OK