Package: sarks Version: 1.18.0 Command: /home/biocbuild/R/R/bin/R CMD build --keep-empty-dirs --no-resave-data sarks StartedAt: 2025-01-31 02:22:59 -0000 (Fri, 31 Jan 2025) EndedAt: 2025-01-31 02:23:25 -0000 (Fri, 31 Jan 2025) EllapsedTime: 26.0 seconds RetCode: 0 Status: OK PackageFile: sarks_1.18.0.tar.gz PackageFileSize: 725.5 KiB