Package: sarks Version: 1.18.0 Command: chmod a+r sarks -R && F:\biocbuild\bbs-3.20-bioc\R\bin\R.exe CMD build --keep-empty-dirs --no-resave-data sarks StartedAt: 2025-01-30 21:35:12 -0500 (Thu, 30 Jan 2025) EndedAt: 2025-01-30 21:35:54 -0500 (Thu, 30 Jan 2025) EllapsedTime: 42.5 seconds RetCode: 0 Status: OK PackageFile: sarks_1.18.0.tar.gz PackageFileSize: 454.4 KiB