Package: sarks Version: 1.18.0 Command: rm -rf sarks.buildbin-libdir && mkdir sarks.buildbin-libdir && F:\biocbuild\bbs-3.20-bioc\R\bin\R.exe CMD INSTALL --build --library=sarks.buildbin-libdir sarks_1.18.0.tar.gz StartedAt: 2025-01-31 09:31:32 -0500 (Fri, 31 Jan 2025) EndedAt: 2025-01-31 09:31:59 -0500 (Fri, 31 Jan 2025) EllapsedTime: 27.6 seconds RetCode: 0 Status: OK PackageFile: sarks_1.18.0.zip PackageFileSize: 492.2 KiB