Package: sarks Version: 1.18.0 Command: /Library/Frameworks/R.framework/Resources/bin/R CMD INSTALL sarks StartedAt: 2025-02-10 15:14:18 -0500 (Mon, 10 Feb 2025) EndedAt: 2025-02-10 15:14:43 -0500 (Mon, 10 Feb 2025) EllapsedTime: 24.7 seconds RetCode: 0 Status: OK