Package: sarks Version: 1.18.0 Command: /Library/Frameworks/R.framework/Resources/bin/R CMD build --keep-empty-dirs --no-resave-data sarks StartedAt: 2025-02-03 21:56:20 -0500 (Mon, 03 Feb 2025) EndedAt: 2025-02-03 21:57:16 -0500 (Mon, 03 Feb 2025) EllapsedTime: 55.7 seconds RetCode: 0 Status: OK PackageFile: sarks_1.18.0.tar.gz PackageFileSize: 744.9 KiB