Package: sarks Version: 1.22.0 Command: rm -rf sarks.buildbin-libdir && mkdir sarks.buildbin-libdir && /Users/biocbuild/BBS/utils/build-universal.sh sarks_1.22.0.tar.gz /Library/Frameworks/R.framework/Resources/bin/R sarks.buildbin-libdir StartedAt: 2025-11-04 02:01:37 -0500 (Tue, 04 Nov 2025) EndedAt: 2025-11-04 02:01:55 -0500 (Tue, 04 Nov 2025) EllapsedTime: 18.4 seconds RetCode: 0 Status: OK PackageFile: sarks_1.22.0.tgz PackageFileSize: 775.4 KiB