Package: sarks Version: 1.18.0 Command: /Library/Frameworks/R.framework/Resources/bin/R CMD check --install=check:sarks.install-out.txt --library=/Library/Frameworks/R.framework/Resources/library --no-vignettes --timings sarks_1.18.0.tar.gz StartedAt: 2025-02-12 08:00:50 -0500 (Wed, 12 Feb 2025) EndedAt: 2025-02-12 08:02:25 -0500 (Wed, 12 Feb 2025) EllapsedTime: 95.3 seconds RetCode: 0 Status: OK CheckDir: sarks.Rcheck Warnings: 0