Package: sangerseqR Version: 1.44.0 Command: /Library/Frameworks/R.framework/Resources/bin/R CMD build --keep-empty-dirs --no-resave-data sangerseqR StartedAt: 2025-05-12 22:38:23 -0400 (Mon, 12 May 2025) EndedAt: 2025-05-12 22:39:43 -0400 (Mon, 12 May 2025) EllapsedTime: 79.2 seconds RetCode: 0 Status: OK PackageFile: sangerseqR_1.44.0.tar.gz PackageFileSize: 2.934 MiB