Package: sangerseqR Version: 1.44.0 Command: rm -rf sangerseqR.buildbin-libdir && mkdir sangerseqR.buildbin-libdir && /Users/biocbuild/BBS/utils/build-universal.sh sangerseqR_1.44.0.tar.gz /Library/Frameworks/R.framework/Resources/bin/R sangerseqR.buildbin-libdir StartedAt: 2025-05-13 14:00:49 -0400 (Tue, 13 May 2025) EndedAt: 2025-05-13 14:01:33 -0400 (Tue, 13 May 2025) EllapsedTime: 44.0 seconds RetCode: 0 Status: OK PackageFile: sangerseqR_1.44.0.tgz PackageFileSize: 3.185 MiB