Package: sSeq Version: 1.46.0 Command: /Library/Frameworks/R.framework/Resources/bin/R CMD build --keep-empty-dirs --no-resave-data sSeq StartedAt: 2025-05-06 09:28:24 -0400 (Tue, 06 May 2025) EndedAt: 2025-05-06 09:29:39 -0400 (Tue, 06 May 2025) EllapsedTime: 75.7 seconds RetCode: 0 Status: OK PackageFile: sSeq_1.46.0.tar.gz PackageFileSize: 4.201 MiB