Package: sSNAPPY Version: 1.12.0 Command: /Library/Frameworks/R.framework/Resources/bin/R CMD build --keep-empty-dirs --no-resave-data sSNAPPY StartedAt: 2025-05-05 22:45:55 -0400 (Mon, 05 May 2025) EndedAt: 2025-05-05 23:02:57 -0400 (Mon, 05 May 2025) EllapsedTime: 1021.8 seconds RetCode: 0 Status: OK PackageFile: sSNAPPY_1.12.0.tar.gz PackageFileSize: 4.257 MiB