Package: sSNAPPY Version: 1.12.0 Command: /home/biocbuild/R/R/bin/R CMD INSTALL sSNAPPY StartedAt: 2025-05-05 20:48:26 -0000 (Mon, 05 May 2025) EndedAt: 2025-05-05 20:49:11 -0000 (Mon, 05 May 2025) EllapsedTime: 44.7 seconds RetCode: 0 Status: OK