Package: sSNAPPY Version: 1.12.0 Command: rm -rf sSNAPPY.buildbin-libdir && mkdir sSNAPPY.buildbin-libdir && /Users/biocbuild/BBS/utils/build-universal.sh sSNAPPY_1.12.0.tar.gz /Library/Frameworks/R.framework/Resources/bin/R sSNAPPY.buildbin-libdir StartedAt: 2025-04-29 13:25:11 -0400 (Tue, 29 Apr 2025) EndedAt: 2025-04-29 13:25:27 -0400 (Tue, 29 Apr 2025) EllapsedTime: 15.2 seconds RetCode: 0 Status: OK PackageFile: sSNAPPY_1.12.0.tgz PackageFileSize: 4.331 MiB