Package: sRACIPE Version: 2.0.1 Command: /Library/Frameworks/R.framework/Resources/bin/R CMD build --keep-empty-dirs --no-resave-data sRACIPE StartedAt: 2025-09-29 23:01:27 -0400 (Mon, 29 Sep 2025) EndedAt: 2025-09-29 23:04:01 -0400 (Mon, 29 Sep 2025) EllapsedTime: 153.9 seconds RetCode: 0 Status: OK PackageFile: sRACIPE_2.0.1.tar.gz PackageFileSize: 1.928 MiB