Package: rtracklayer Version: 1.68.0 Command: chmod a+r rtracklayer -R && E:\biocbuild\bbs-3.21-bioc\R\bin\R.exe CMD build --keep-empty-dirs --no-resave-data rtracklayer StartedAt: 2025-08-14 21:53:52 -0400 (Thu, 14 Aug 2025) EndedAt: 2025-08-14 21:59:14 -0400 (Thu, 14 Aug 2025) EllapsedTime: 322.2 seconds RetCode: 0 Status: OK PackageFile: rtracklayer_1.68.0.tar.gz PackageFileSize: 3.756 MiB