Package: rqubic Version: 1.52.0 Command: /home/biocbuild/R/R/bin/R CMD check --install=check:rqubic.install-out.txt --library=/home/biocbuild/R/R/site-library --no-vignettes --timings rqubic_1.52.0.tar.gz StartedAt: 2025-01-31 09:55:25 -0000 (Fri, 31 Jan 2025) EndedAt: 2025-01-31 09:56:25 -0000 (Fri, 31 Jan 2025) EllapsedTime: 59.0 seconds RetCode: 0 Status: WARNINGS CheckDir: rqubic.Rcheck Warnings: 1