Package: rqubic Version: 1.54.0 Command: /home/biocbuild/bbs-3.21-bioc/R/bin/R CMD build --keep-empty-dirs --no-resave-data rqubic StartedAt: 2025-09-28 19:47:25 -0400 (Sun, 28 Sep 2025) EndedAt: 2025-09-28 19:47:40 -0400 (Sun, 28 Sep 2025) EllapsedTime: 15.0 seconds RetCode: 0 Status: OK PackageFile: rqubic_1.54.0.tar.gz PackageFileSize: 189.9 KiB