Package: rqubic Version: 1.54.0 Maintainer: Jitao David Zhang MaintainerEmail: jitao_david.zhang at roche.com git_url: https://git.bioconductor.org/packages/rqubic git_branch: RELEASE_3_21 git_last_commit: fa5ffea git_last_commit_date: 2025-04-15 10:09:43 -0400 (Tue, 15 Apr 2025)