Package: rqt Version: 1.34.0 Command: /Library/Frameworks/R.framework/Resources/bin/R CMD build --keep-empty-dirs --no-resave-data rqt StartedAt: 2025-04-21 18:14:01 -0400 (Mon, 21 Apr 2025) EndedAt: 2025-04-21 18:14:54 -0400 (Mon, 21 Apr 2025) EllapsedTime: 52.6 seconds RetCode: 0 Status: OK PackageFile: rqt_1.34.0.tar.gz PackageFileSize: 541.2 KiB