Package: rpx Version: 2.16.0 Command: /Library/Frameworks/R.framework/Resources/bin/R CMD INSTALL rpx StartedAt: 2025-04-21 15:10:04 -0400 (Mon, 21 Apr 2025) EndedAt: 2025-04-21 15:10:27 -0400 (Mon, 21 Apr 2025) EllapsedTime: 23.4 seconds RetCode: 0 Status: OK