Package: rpx Version: 2.16.0 Command: /Library/Frameworks/R.framework/Resources/bin/R CMD build --keep-empty-dirs --no-resave-data rpx StartedAt: 2025-04-21 18:13:52 -0400 (Mon, 21 Apr 2025) EndedAt: 2025-04-21 18:14:11 -0400 (Mon, 21 Apr 2025) EllapsedTime: 19.4 seconds RetCode: 0 Status: OK PackageFile: rpx_2.16.0.tar.gz PackageFileSize: 316.7 KiB