Package: rprimer Version: 1.12.0 Command: /home/biocbuild/R/R/bin/R CMD build --keep-empty-dirs --no-resave-data rprimer StartedAt: 2025-05-09 03:54:47 -0000 (Fri, 09 May 2025) EndedAt: 2025-05-09 03:56:12 -0000 (Fri, 09 May 2025) EllapsedTime: 85.1 seconds RetCode: 0 Status: OK PackageFile: rprimer_1.12.0.tar.gz PackageFileSize: 3.031 MiB