Package: rprimer Version: 1.12.0 Command: /Library/Frameworks/R.framework/Resources/bin/R CMD check --install=check:rprimer.install-out.txt --library=/Library/Frameworks/R.framework/Resources/library --no-vignettes --timings rprimer_1.12.0.tar.gz StartedAt: 2025-05-10 07:17:17 -0400 (Sat, 10 May 2025) EndedAt: 2025-05-10 07:20:21 -0400 (Sat, 10 May 2025) EllapsedTime: 183.4 seconds RetCode: 0 Status: OK CheckDir: rprimer.Rcheck Warnings: 0